BEGIN:VCALENDAR
VERSION:2.0
PRODID:-//mWEB//NONSGML mWEB//NB
URL:https://www.beroa.no/kalender/ics
X-WR-CALNAME:Berøa Langåker
REFRESH-INTERVAL;VALUE=DURATION:PT6H
X-PUBLISHED-TTL:PT6H    
CALSCALE:GREGORIAN
BEGIN:VEVENT
UID:beroa.no-3173
DTSTAMP:20260423T095314Z
DTSTART:20250303T230000Z
DTEND:20250304T225900Z
URL:https://www.beroa.no/kalender/2025/03/04/smak-og-se-samling-pa-beroa/3173/
CREATED:20250301T083103Z
LAST-MODIFIED:20250301T083218Z
SUMMARY:Smak og se - samling på Berøa
DESCRIPTION:\n\nhttps://www.beroa.no/kalender/2025/03/04/smak-og-se-samling-pa-beroa/3173/
X-MICROSOFT-CDO-ALLDAYEVENT:TRUE
END:VEVENT

END:VCALENDAR