BEGIN:VCALENDAR
VERSION:2.0
PRODID:-//mWEB//NONSGML mWEB//NB
URL:https://www.beroa.no/kalender/ics
X-WR-CALNAME:Berøa Langåker
REFRESH-INTERVAL;VALUE=DURATION:PT6H
X-PUBLISHED-TTL:PT6H    
CALSCALE:GREGORIAN
BEGIN:VEVENT
UID:beroa.no-3159
DTSTAMP:20260425T101843Z
DTSTART:20250306T183000Z
DTEND:20250306T200000Z
URL:https://www.beroa.no/kalender/2025/03/06/bibellesning/3159/
CREATED:20250124T184941Z
LAST-MODIFIED:20250124T184942Z
SUMMARY:Bibellesning
DESCRIPTION:\n\nhttps://www.beroa.no/kalender/2025/03/06/bibellesning/3159/
END:VEVENT

END:VCALENDAR