BEGIN:VCALENDAR
VERSION:2.0
PRODID:-//mWEB//NONSGML mWEB//NB
URL:https://www.beroa.no/kalender/ics
X-WR-CALNAME:Berøa Langåker
REFRESH-INTERVAL;VALUE=DURATION:PT6H
X-PUBLISHED-TTL:PT6H    
CALSCALE:GREGORIAN
BEGIN:VEVENT
UID:beroa.no-3144
DTSTAMP:20260423T094948Z
DTSTART:20250307T170000Z
DTEND:20250307T183000Z
URL:https://www.beroa.no/kalender/2025/03/07/10-13-klubben/3144/
CREATED:20250122T194535Z
LAST-MODIFIED:20250122T194535Z
SUMMARY:10-13 klubben
DESCRIPTION:\n\nhttps://www.beroa.no/kalender/2025/03/07/10-13-klubben/3144/
END:VEVENT

END:VCALENDAR