BEGIN:VCALENDAR
VERSION:2.0
PRODID:-//mWEB//NONSGML mWEB//NB
URL:https://www.beroa.no/kalender/ics
X-WR-CALNAME:Berøa Langåker
REFRESH-INTERVAL;VALUE=DURATION:PT6H
X-PUBLISHED-TTL:PT6H    
CALSCALE:GREGORIAN
BEGIN:VEVENT
UID:beroa.no-3104
DTSTAMP:20260423T095820Z
DTSTART:20250309T183000Z
DTEND:20250309T200000Z
URL:https://www.beroa.no/kalender/2025/03/09/mote-tale-av-klaus-muff-sang-av-sandhaland-lovsangsgruppe/3104/
CREATED:20241029T171613Z
LAST-MODIFIED:20250122T163846Z
SUMMARY:Møte. Tale av Klaus Muff. Sang av Sandhåland lovsangsgruppe.
DESCRIPTION:\n\nhttps://www.beroa.no/kalender/2025/03/09/mote-tale-av-klaus-muff-sang-av-sandhaland-lovsangsgruppe/3104/
END:VEVENT

END:VCALENDAR