BEGIN:VCALENDAR
VERSION:2.0
PRODID:-//mWEB//NONSGML mWEB//NB
URL:https://www.beroa.no/kalender/ics
X-WR-CALNAME:Berøa Langåker
REFRESH-INTERVAL;VALUE=DURATION:PT6H
X-PUBLISHED-TTL:PT6H    
CALSCALE:GREGORIAN
BEGIN:VEVENT
UID:beroa.no-3001
DTSTAMP:20260423T100627Z
DTSTART:20250314T183000Z
DTEND:20250314T200000Z
URL:https://www.beroa.no/kalender/2025/03/14/mote-med-havard-og-hakon-brekka/3001/
CREATED:20240606T154950Z
LAST-MODIFIED:20240606T154952Z
SUMMARY:Møte med Håvard og Håkon Brekkå
DESCRIPTION:\n\nhttps://www.beroa.no/kalender/2025/03/14/mote-med-havard-og-hakon-brekka/3001/
END:VEVENT

END:VCALENDAR