BEGIN:VCALENDAR
VERSION:2.0
PRODID:-//mWEB//NONSGML mWEB//NB
URL:https://www.beroa.no/kalender/ics
X-WR-CALNAME:Berøa Langåker
REFRESH-INTERVAL;VALUE=DURATION:PT6H
X-PUBLISHED-TTL:PT6H    
CALSCALE:GREGORIAN
BEGIN:VEVENT
UID:beroa.no-3002
DTSTAMP:20260423T095932Z
DTSTART:20250315T170000Z
DTEND:20250315T183000Z
URL:https://www.beroa.no/kalender/2025/03/15/lordagssamling-med-havard-og-hakon-brekka/3002/
CREATED:20240606T155019Z
LAST-MODIFIED:20241012T082055Z
SUMMARY:Lørdagssamling med Håvard og Håkon Brekkå
DESCRIPTION:\n\nhttps://www.beroa.no/kalender/2025/03/15/lordagssamling-med-havard-og-hakon-brekka/3002/
END:VEVENT

END:VCALENDAR