BEGIN:VCALENDAR
VERSION:2.0
PRODID:-//mWEB//NONSGML mWEB//NB
URL:https://www.beroa.no/kalender/ics
X-WR-CALNAME:Berøa Langåker
REFRESH-INTERVAL;VALUE=DURATION:PT6H
X-PUBLISHED-TTL:PT6H    
CALSCALE:GREGORIAN
BEGIN:VEVENT
UID:beroa.no-3161
DTSTAMP:20260423T094544Z
DTSTART:20250320T183000Z
DTEND:20250320T200000Z
URL:https://www.beroa.no/kalender/2025/03/20/bibellesning/3161/
CREATED:20250124T185012Z
LAST-MODIFIED:20250124T185013Z
SUMMARY:Bibellesning
DESCRIPTION:\n\nhttps://www.beroa.no/kalender/2025/03/20/bibellesning/3161/
END:VEVENT

END:VCALENDAR