BEGIN:VCALENDAR
VERSION:2.0
PRODID:-//mWEB//NONSGML mWEB//NB
URL:https://www.beroa.no/kalender/ics
X-WR-CALNAME:Berøa Langåker
REFRESH-INTERVAL;VALUE=DURATION:PT6H
X-PUBLISHED-TTL:PT6H    
CALSCALE:GREGORIAN
BEGIN:VEVENT
UID:beroa.no-3150
DTSTAMP:20260423T100247Z
DTSTART:20250321T170000Z
DTEND:20250321T183000Z
URL:https://www.beroa.no/kalender/2025/03/21/gratis-konsert-m-aleksander-hauge-min-historie-fortalt-i-bilder-ord-og-tonar/3150/
CREATED:20250123T191712Z
LAST-MODIFIED:20250123T191712Z
SUMMARY:Gratis konsert m. Aleksander Hauge - Min historie Fortalt i bilder\, ord og tonar
DESCRIPTION:\n\n\nhttps://www.beroa.no/kalender/2025/03/21/gratis-konsert-m-aleksander-hauge-min-historie-fortalt-i-bilder-ord-og-tonar/3150/
END:VEVENT

END:VCALENDAR