BEGIN:VCALENDAR
VERSION:2.0
PRODID:-//mWEB//NONSGML mWEB//NB
URL:https://www.beroa.no/kalender/ics
X-WR-CALNAME:Berøa Langåker
REFRESH-INTERVAL;VALUE=DURATION:PT6H
X-PUBLISHED-TTL:PT6H    
CALSCALE:GREGORIAN
BEGIN:VEVENT
UID:beroa.no-3105
DTSTAMP:20260423T094105Z
DTSTART:20250323T183000Z
DTEND:20250323T200000Z
URL:https://www.beroa.no/kalender/2025/03/23/brodsbrytelse/3105/
CREATED:20241029T171643Z
LAST-MODIFIED:20241029T171644Z
SUMMARY:Brødsbrytelse
DESCRIPTION:\n\nhttps://www.beroa.no/kalender/2025/03/23/brodsbrytelse/3105/
END:VEVENT

END:VCALENDAR