BEGIN:VCALENDAR
VERSION:2.0
PRODID:-//mWEB//NONSGML mWEB//NB
URL:https://www.beroa.no/kalender/ics
X-WR-CALNAME:Berøa Langåker
REFRESH-INTERVAL;VALUE=DURATION:PT6H
X-PUBLISHED-TTL:PT6H    
CALSCALE:GREGORIAN
BEGIN:VEVENT
UID:beroa.no-3164
DTSTAMP:20260423T094702Z
DTSTART:20250323T100000Z
DTEND:20250323T113000Z
URL:https://www.beroa.no/kalender/2025/03/23/sondagsskule/3164/
CREATED:20250124T185402Z
LAST-MODIFIED:20250124T185404Z
SUMMARY:Søndagsskule
DESCRIPTION:\n\nhttps://www.beroa.no/kalender/2025/03/23/sondagsskule/3164/
END:VEVENT

END:VCALENDAR