BEGIN:VCALENDAR
VERSION:2.0
PRODID:-//mWEB//NONSGML mWEB//NB
URL:https://www.beroa.no/kalender/ics
X-WR-CALNAME:Berøa Langåker
REFRESH-INTERVAL;VALUE=DURATION:PT6H
X-PUBLISHED-TTL:PT6H    
CALSCALE:GREGORIAN
BEGIN:VEVENT
UID:beroa.no-3153
DTSTAMP:20260423T095402Z
DTSTART:20250326T183000Z
DTEND:20250326T200000Z
URL:https://www.beroa.no/kalender/2025/03/26/elieserlaget/3153/
CREATED:20250124T170927Z
LAST-MODIFIED:20250124T170928Z
SUMMARY:Elieserlaget
DESCRIPTION:\n\nhttps://www.beroa.no/kalender/2025/03/26/elieserlaget/3153/
END:VEVENT

END:VCALENDAR