BEGIN:VCALENDAR
VERSION:2.0
PRODID:-//mWEB//NONSGML mWEB//NB
URL:https://www.beroa.no/kalender/ics
X-WR-CALNAME:Berøa Langåker
REFRESH-INTERVAL;VALUE=DURATION:PT6H
X-PUBLISHED-TTL:PT6H    
CALSCALE:GREGORIAN
BEGIN:VEVENT
UID:beroa.no-3067
DTSTAMP:20260423T131711Z
DTSTART:20250328T183000Z
DTEND:20250328T200000Z
URL:https://www.beroa.no/kalender/2025/03/28/mote-tale-av-john-magnus-hoyvik/3067/
CREATED:20241012T081555Z
LAST-MODIFIED:20250122T164050Z
SUMMARY:Møte. Tale av John Magnus Høyvik
DESCRIPTION:\n\nhttps://www.beroa.no/kalender/2025/03/28/mote-tale-av-john-magnus-hoyvik/3067/
END:VEVENT

END:VCALENDAR