BEGIN:VCALENDAR
VERSION:2.0
PRODID:-//mWEB//NONSGML mWEB//NB
URL:https://www.beroa.no/kalender/ics
X-WR-CALNAME:Berøa Langåker
REFRESH-INTERVAL;VALUE=DURATION:PT6H
X-PUBLISHED-TTL:PT6H    
CALSCALE:GREGORIAN
BEGIN:VEVENT
UID:beroa.no-3121
DTSTAMP:20260423T095153Z
DTSTART:20250329T200000Z
DTEND:20250329T213000Z
URL:https://www.beroa.no/kalender/2025/03/29/beroaung-ungdomsmote/3121/
CREATED:20241104T201024Z
LAST-MODIFIED:20241104T201208Z
SUMMARY:BerøaUng (Ungdomsmøte)
DESCRIPTION:\n\nhttps://www.beroa.no/kalender/2025/03/29/beroaung-ungdomsmote/3121/
END:VEVENT

END:VCALENDAR