BEGIN:VCALENDAR
VERSION:2.0
PRODID:-//mWEB//NONSGML mWEB//NB
URL:https://www.beroa.no/kalender/ics
X-WR-CALNAME:Berøa Langåker
REFRESH-INTERVAL;VALUE=DURATION:PT6H
X-PUBLISHED-TTL:PT6H    
CALSCALE:GREGORIAN
BEGIN:VEVENT
UID:beroa.no-3068
DTSTAMP:20260423T100145Z
DTSTART:20250329T180000Z
DTEND:20250329T193000Z
URL:https://www.beroa.no/kalender/2025/03/29/mote-tale-av-john-magnus-hoyvik-sang-av-rebekka-brekka/3068/
CREATED:20241012T081626Z
LAST-MODIFIED:20250327T165453Z
SUMMARY:Møte. Tale av John Magnus Høyvik. Sang av Rebekka Brekkå
DESCRIPTION:\n\nhttps://www.beroa.no/kalender/2025/03/29/mote-tale-av-john-magnus-hoyvik-sang-av-rebekka-brekka/3068/
END:VEVENT

END:VCALENDAR