BEGIN:VCALENDAR
VERSION:2.0
PRODID:-//mWEB//NONSGML mWEB//NB
URL:https://www.beroa.no/kalender/ics
X-WR-CALNAME:Berøa Langåker
REFRESH-INTERVAL;VALUE=DURATION:PT6H
X-PUBLISHED-TTL:PT6H    
CALSCALE:GREGORIAN
BEGIN:VEVENT
UID:beroa.no-3176
DTSTAMP:20260421T072041Z
DTSTART:20250401T173000Z
DTEND:20250401T190000Z
URL:https://www.beroa.no/kalender/2025/04/01/bonnesamling/3176/
CREATED:20250301T164110Z
LAST-MODIFIED:20250301T164111Z
SUMMARY:Bønnesamling
DESCRIPTION:\n\nhttps://www.beroa.no/kalender/2025/04/01/bonnesamling/3176/
END:VEVENT

END:VCALENDAR