BEGIN:VCALENDAR
VERSION:2.0
PRODID:-//mWEB//NONSGML mWEB//NB
URL:https://www.beroa.no/kalender/ics
X-WR-CALNAME:Berøa Langåker
REFRESH-INTERVAL;VALUE=DURATION:PT6H
X-PUBLISHED-TTL:PT6H    
CALSCALE:GREGORIAN
BEGIN:VEVENT
UID:beroa.no-3115
DTSTAMP:20260423T095627Z
DTSTART:20250405T180000Z
DTEND:20250405T193000Z
URL:https://www.beroa.no/kalender/2025/04/05/acta-ungdomsmote-betania/3115/
CREATED:20241104T200220Z
LAST-MODIFIED:20241104T200220Z
SUMMARY:Acta (Ungdomsmøte Betania)
DESCRIPTION:\n\nhttps://www.beroa.no/kalender/2025/04/05/acta-ungdomsmote-betania/3115/
END:VEVENT

END:VCALENDAR