BEGIN:VCALENDAR
VERSION:2.0
PRODID:-//mWEB//NONSGML mWEB//NB
URL:https://www.beroa.no/kalender/ics
X-WR-CALNAME:Berøa Langåker
REFRESH-INTERVAL;VALUE=DURATION:PT6H
X-PUBLISHED-TTL:PT6H    
CALSCALE:GREGORIAN
BEGIN:VEVENT
UID:beroa.no-3109
DTSTAMP:20260421T072508Z
DTSTART:20250406T173000Z
DTEND:20250406T190000Z
URL:https://www.beroa.no/kalender/2025/04/06/mote-tale-av-david-sjoen-sang-av-ester-hansen/3109/
CREATED:20241029T172316Z
LAST-MODIFIED:20250331T154412Z
SUMMARY:Møte. Tale av David Sjøen. Sang av Ester Hansen
DESCRIPTION:\n\nhttps://www.beroa.no/kalender/2025/04/06/mote-tale-av-david-sjoen-sang-av-ester-hansen/3109/
END:VEVENT

END:VCALENDAR