BEGIN:VCALENDAR
VERSION:2.0
PRODID:-//mWEB//NONSGML mWEB//NB
URL:https://www.beroa.no/kalender/ics
X-WR-CALNAME:Berøa Langåker
REFRESH-INTERVAL;VALUE=DURATION:PT6H
X-PUBLISHED-TTL:PT6H    
CALSCALE:GREGORIAN
BEGIN:VEVENT
UID:beroa.no-3182
DTSTAMP:20260421T071957Z
DTSTART:20250410T173000Z
DTEND:20250410T190000Z
URL:https://www.beroa.no/kalender/2025/04/10/bibellesning/3182/
CREATED:20250301T164310Z
LAST-MODIFIED:20250301T164311Z
SUMMARY:Bibellesning
DESCRIPTION:\n\nhttps://www.beroa.no/kalender/2025/04/10/bibellesning/3182/
END:VEVENT

END:VCALENDAR