BEGIN:VCALENDAR
VERSION:2.0
PRODID:-//mWEB//NONSGML mWEB//NB
URL:https://www.beroa.no/kalender/ics
X-WR-CALNAME:Berøa Langåker
REFRESH-INTERVAL;VALUE=DURATION:PT6H
X-PUBLISHED-TTL:PT6H    
CALSCALE:GREGORIAN
BEGIN:VEVENT
UID:beroa.no-3108
DTSTAMP:20260421T071753Z
DTSTART:20250413T100000Z
DTEND:20250413T113000Z
URL:https://www.beroa.no/kalender/2025/04/13/brodsbrytelse/3108/
CREATED:20241029T172238Z
LAST-MODIFIED:20250124T185755Z
SUMMARY:Brødsbrytelse
DESCRIPTION:\n\nhttps://www.beroa.no/kalender/2025/04/13/brodsbrytelse/3108/
END:VEVENT

END:VCALENDAR