BEGIN:VCALENDAR
VERSION:2.0
PRODID:-//mWEB//NONSGML mWEB//NB
URL:https://www.beroa.no/kalender/ics
X-WR-CALNAME:Berøa Langåker
REFRESH-INTERVAL;VALUE=DURATION:PT6H
X-PUBLISHED-TTL:PT6H    
CALSCALE:GREGORIAN
BEGIN:VEVENT
UID:beroa.no-3126
DTSTAMP:20260421T040443Z
DTSTART:20250503T180000Z
DTEND:20250503T193000Z
URL:https://www.beroa.no/kalender/2025/05/03/zennep-sandve-skule/3126/
CREATED:20241109T213404Z
LAST-MODIFIED:20250429T153253Z
SUMMARY:Zennep (Sandve skule)
DESCRIPTION:På Sandve skule. 7. klasse er velkomne!\n\nhttps://www.beroa.no/kalender/2025/05/03/zennep-sandve-skule/3126/
END:VEVENT

END:VCALENDAR