BEGIN:VCALENDAR
VERSION:2.0
PRODID:-//mWEB//NONSGML mWEB//NB
URL:https://www.beroa.no/kalender/ics
X-WR-CALNAME:Berøa Langåker
REFRESH-INTERVAL;VALUE=DURATION:PT6H
X-PUBLISHED-TTL:PT6H    
CALSCALE:GREGORIAN
BEGIN:VEVENT
UID:beroa.no-3111
DTSTAMP:20260421T041001Z
DTSTART:20250504T090000Z
DTEND:20250504T103000Z
URL:https://www.beroa.no/kalender/2025/05/04/hoytidsmote-smak-og-se-tale-av-maria-nordstrand-lovsangsteamet-blir-med/3111/
CREATED:20241029T172506Z
LAST-MODIFIED:20250222T090801Z
SUMMARY:Høytidsmøte Smak og se. Tale av Maria Nordstrand. Lovsangsteamet blir med.
DESCRIPTION:\n\nhttps://www.beroa.no/kalender/2025/05/04/hoytidsmote-smak-og-se-tale-av-maria-nordstrand-lovsangsteamet-blir-med/3111/
END:VEVENT

END:VCALENDAR