BEGIN:VCALENDAR
VERSION:2.0
PRODID:-//mWEB//NONSGML mWEB//NB
URL:https://www.beroa.no/kalender/ics
X-WR-CALNAME:Berøa Langåker
REFRESH-INTERVAL;VALUE=DURATION:PT6H
X-PUBLISHED-TTL:PT6H    
CALSCALE:GREGORIAN
BEGIN:VEVENT
UID:beroa.no-3185
DTSTAMP:20260421T040059Z
DTSTART:20250506T173000Z
DTEND:20250506T190000Z
URL:https://www.beroa.no/kalender/2025/05/06/bonnesamling/3185/
CREATED:20250317T165428Z
LAST-MODIFIED:20250317T165429Z
SUMMARY:Bønnesamling
DESCRIPTION:\n\nhttps://www.beroa.no/kalender/2025/05/06/bonnesamling/3185/
END:VEVENT

END:VCALENDAR