BEGIN:VCALENDAR
VERSION:2.0
PRODID:-//mWEB//NONSGML mWEB//NB
URL:https://www.beroa.no/kalender/ics
X-WR-CALNAME:Berøa Langåker
REFRESH-INTERVAL;VALUE=DURATION:PT6H
X-PUBLISHED-TTL:PT6H    
CALSCALE:GREGORIAN
BEGIN:VEVENT
UID:beroa.no-3190
DTSTAMP:20260421T035702Z
DTSTART:20250508T173000Z
DTEND:20250508T190000Z
URL:https://www.beroa.no/kalender/2025/05/08/bibellesning/3190/
CREATED:20250317T165855Z
LAST-MODIFIED:20250317T165857Z
SUMMARY:Bibellesning
DESCRIPTION:\n\nhttps://www.beroa.no/kalender/2025/05/08/bibellesning/3190/
END:VEVENT

END:VCALENDAR