BEGIN:VCALENDAR
VERSION:2.0
PRODID:-//mWEB//NONSGML mWEB//NB
URL:https://www.beroa.no/kalender/ics
X-WR-CALNAME:Berøa Langåker
REFRESH-INTERVAL;VALUE=DURATION:PT6H
X-PUBLISHED-TTL:PT6H    
CALSCALE:GREGORIAN
BEGIN:VEVENT
UID:beroa.no-3203
DTSTAMP:20260421T040851Z
DTSTART:20250509T180000Z
DTEND:20250509T193000Z
URL:https://www.beroa.no/kalender/2025/05/09/sangkveld-med-lovsangsteamet-grilling-etterpa/3203/
CREATED:20250502T160909Z
LAST-MODIFIED:20250505T172750Z
SUMMARY:Sangkveld med lovsangsteamet (grilling etterpå)
DESCRIPTION:\n\nhttps://www.beroa.no/kalender/2025/05/09/sangkveld-med-lovsangsteamet-grilling-etterpa/3203/
END:VEVENT

END:VCALENDAR