BEGIN:VCALENDAR
VERSION:2.0
PRODID:-//mWEB//NONSGML mWEB//NB
URL:https://www.beroa.no/kalender/ics
X-WR-CALNAME:Berøa Langåker
REFRESH-INTERVAL;VALUE=DURATION:PT6H
X-PUBLISHED-TTL:PT6H    
CALSCALE:GREGORIAN
BEGIN:VEVENT
UID:beroa.no-3116
DTSTAMP:20260421T040747Z
DTSTART:20250510T180000Z
DTEND:20250510T193000Z
URL:https://www.beroa.no/kalender/2025/05/10/acta-ungdomsmote-betania/3116/
CREATED:20241104T200238Z
LAST-MODIFIED:20241104T200238Z
SUMMARY:Acta (Ungdomsmøte Betania)
DESCRIPTION:\n\nhttps://www.beroa.no/kalender/2025/05/10/acta-ungdomsmote-betania/3116/
END:VEVENT

END:VCALENDAR