BEGIN:VCALENDAR
VERSION:2.0
PRODID:-//mWEB//NONSGML mWEB//NB
URL:https://www.beroa.no/kalender/ics
X-WR-CALNAME:Berøa Langåker
REFRESH-INTERVAL;VALUE=DURATION:PT6H
X-PUBLISHED-TTL:PT6H    
CALSCALE:GREGORIAN
BEGIN:VEVENT
UID:beroa.no-3110
DTSTAMP:20260421T041259Z
DTSTART:20250511T173000Z
DTEND:20250511T190000Z
URL:https://www.beroa.no/kalender/2025/05/11/mote-tale-av-frode-steinkjella-tema-jesu-gjenkomst/3110/
CREATED:20241029T172436Z
LAST-MODIFIED:20250510T064547Z
SUMMARY:Møte. Tale av Frode Steinkjellå. Tema: Jesu gjenkomst
DESCRIPTION:\n\nhttps://www.beroa.no/kalender/2025/05/11/mote-tale-av-frode-steinkjella-tema-jesu-gjenkomst/3110/
END:VEVENT

END:VCALENDAR