BEGIN:VCALENDAR
VERSION:2.0
PRODID:-//mWEB//NONSGML mWEB//NB
URL:https://www.beroa.no/kalender/ics
X-WR-CALNAME:Berøa Langåker
REFRESH-INTERVAL;VALUE=DURATION:PT6H
X-PUBLISHED-TTL:PT6H    
CALSCALE:GREGORIAN
BEGIN:VEVENT
UID:beroa.no-3166
DTSTAMP:20260423T131053Z
DTSTART:20250511T090000Z
DTEND:20250511T103000Z
URL:https://www.beroa.no/kalender/2025/05/11/sondagsskule/3166/
CREATED:20250124T185523Z
LAST-MODIFIED:20250124T185524Z
SUMMARY:Søndagsskule
DESCRIPTION:\n\nhttps://www.beroa.no/kalender/2025/05/11/sondagsskule/3166/
END:VEVENT

END:VCALENDAR