BEGIN:VCALENDAR
VERSION:2.0
PRODID:-//mWEB//NONSGML mWEB//NB
URL:https://www.beroa.no/kalender/ics
X-WR-CALNAME:Berøa Langåker
REFRESH-INTERVAL;VALUE=DURATION:PT6H
X-PUBLISHED-TTL:PT6H    
CALSCALE:GREGORIAN
BEGIN:VEVENT
UID:beroa.no-3204
DTSTAMP:20260421T040249Z
DTSTART:20250512T150000Z
DTEND:20250512T163000Z
URL:https://www.beroa.no/kalender/2025/05/12/mandagsklubben/3204/
CREATED:20250511T205700Z
LAST-MODIFIED:20250511T205700Z
SUMMARY:Mandagsklubben
DESCRIPTION:Sjå egen annonse\n\nhttps://www.beroa.no/kalender/2025/05/12/mandagsklubben/3204/
END:VEVENT

END:VCALENDAR