BEGIN:VCALENDAR
VERSION:2.0
PRODID:-//mWEB//NONSGML mWEB//NB
URL:https://www.beroa.no/kalender/ics
X-WR-CALNAME:Berøa Langåker
REFRESH-INTERVAL;VALUE=DURATION:PT6H
X-PUBLISHED-TTL:PT6H    
CALSCALE:GREGORIAN
BEGIN:VEVENT
UID:beroa.no-3147
DTSTAMP:20260421T040421Z
DTSTART:20250516T160000Z
DTEND:20250516T173000Z
URL:https://www.beroa.no/kalender/2025/05/16/10-13-klubben/3147/
CREATED:20250122T194635Z
LAST-MODIFIED:20250122T194635Z
SUMMARY:10-13 klubben
DESCRIPTION:\n\nhttps://www.beroa.no/kalender/2025/05/16/10-13-klubben/3147/
END:VEVENT

END:VCALENDAR