BEGIN:VCALENDAR
VERSION:2.0
PRODID:-//mWEB//NONSGML mWEB//NB
URL:https://www.beroa.no/kalender/ics
X-WR-CALNAME:Berøa Langåker
REFRESH-INTERVAL;VALUE=DURATION:PT6H
X-PUBLISHED-TTL:PT6H    
CALSCALE:GREGORIAN
BEGIN:VEVENT
UID:beroa.no-3172
DTSTAMP:20260421T040544Z
DTSTART:20250517T150000Z
DTEND:20250517T163000Z
URL:https://www.beroa.no/kalender/2025/05/17/17-mai-fest-tale-av-klaus-muff/3172/
CREATED:20250124T191229Z
LAST-MODIFIED:20250124T191231Z
SUMMARY:17. mai-fest. Tale av Klaus Muff
DESCRIPTION:\n\nhttps://www.beroa.no/kalender/2025/05/17/17-mai-fest-tale-av-klaus-muff/3172/
END:VEVENT

END:VCALENDAR