BEGIN:VCALENDAR
VERSION:2.0
PRODID:-//mWEB//NONSGML mWEB//NB
URL:https://www.beroa.no/kalender/ics
X-WR-CALNAME:Berøa Langåker
REFRESH-INTERVAL;VALUE=DURATION:PT6H
X-PUBLISHED-TTL:PT6H    
CALSCALE:GREGORIAN
BEGIN:VEVENT
UID:beroa.no-3112
DTSTAMP:20260421T035435Z
DTSTART:20250518T100000Z
DTEND:20250518T113000Z
URL:https://www.beroa.no/kalender/2025/05/18/brodsbrytelse/3112/
CREATED:20241029T172541Z
LAST-MODIFIED:20250404T153923Z
SUMMARY:Brødsbrytelse
DESCRIPTION:\n\nhttps://www.beroa.no/kalender/2025/05/18/brodsbrytelse/3112/
END:VEVENT

END:VCALENDAR