BEGIN:VCALENDAR
VERSION:2.0
PRODID:-//mWEB//NONSGML mWEB//NB
URL:https://www.beroa.no/kalender/ics
X-WR-CALNAME:Berøa Langåker
REFRESH-INTERVAL;VALUE=DURATION:PT6H
X-PUBLISHED-TTL:PT6H    
CALSCALE:GREGORIAN
BEGIN:VEVENT
UID:beroa.no-3187
DTSTAMP:20260421T040059Z
DTSTART:20250520T173000Z
DTEND:20250520T190000Z
URL:https://www.beroa.no/kalender/2025/05/20/bonnesamling/3187/
CREATED:20250317T165502Z
LAST-MODIFIED:20250317T165504Z
SUMMARY:Bønnesamling
DESCRIPTION:\n\nhttps://www.beroa.no/kalender/2025/05/20/bonnesamling/3187/
END:VEVENT

END:VCALENDAR