BEGIN:VCALENDAR
VERSION:2.0
PRODID:-//mWEB//NONSGML mWEB//NB
URL:https://www.beroa.no/kalender/ics
X-WR-CALNAME:Berøa Langåker
REFRESH-INTERVAL;VALUE=DURATION:PT6H
X-PUBLISHED-TTL:PT6H    
CALSCALE:GREGORIAN
BEGIN:VEVENT
UID:beroa.no-3100
DTSTAMP:20260421T040544Z
DTSTART:20250523T173000Z
DTEND:20250523T190000Z
URL:https://www.beroa.no/kalender/2025/05/23/mote-tale-av-david-a-sjoen/3100/
CREATED:20241029T171158Z
LAST-MODIFIED:20250222T090547Z
SUMMARY:Møte. Tale av David A Sjøen
DESCRIPTION:\n\nhttps://www.beroa.no/kalender/2025/05/23/mote-tale-av-david-a-sjoen/3100/
END:VEVENT

END:VCALENDAR