BEGIN:VCALENDAR
VERSION:2.0
PRODID:-//mWEB//NONSGML mWEB//NB
URL:https://www.beroa.no/kalender/ics
X-WR-CALNAME:Berøa Langåker
REFRESH-INTERVAL;VALUE=DURATION:PT6H
X-PUBLISHED-TTL:PT6H    
CALSCALE:GREGORIAN
BEGIN:VEVENT
UID:beroa.no-3188
DTSTAMP:20260421T040249Z
DTSTART:20250527T173000Z
DTEND:20250527T190000Z
URL:https://www.beroa.no/kalender/2025/05/27/bonnesamling/3188/
CREATED:20250317T165523Z
LAST-MODIFIED:20250317T165528Z
SUMMARY:Bønnesamling
DESCRIPTION:\n\nhttps://www.beroa.no/kalender/2025/05/27/bonnesamling/3188/
END:VEVENT

END:VCALENDAR