BEGIN:VCALENDAR
VERSION:2.0
PRODID:-//mWEB//NONSGML mWEB//NB
URL:https://www.beroa.no/kalender/ics
X-WR-CALNAME:Berøa Langåker
REFRESH-INTERVAL;VALUE=DURATION:PT6H
X-PUBLISHED-TTL:PT6H    
CALSCALE:GREGORIAN
BEGIN:VEVENT
UID:beroa.no-3154
DTSTAMP:20260421T040421Z
DTSTART:20250528T173000Z
DTEND:20250528T190000Z
URL:https://www.beroa.no/kalender/2025/05/28/elieserlaget/3154/
CREATED:20250124T171045Z
LAST-MODIFIED:20250124T171046Z
SUMMARY:Elieserlaget
DESCRIPTION:\n\nhttps://www.beroa.no/kalender/2025/05/28/elieserlaget/3154/
END:VEVENT

END:VCALENDAR