BEGIN:VCALENDAR
VERSION:2.0
PRODID:-//mWEB//NONSGML mWEB//NB
URL:https://www.beroa.no/kalender/ics
X-WR-CALNAME:Berøa Langåker
REFRESH-INTERVAL;VALUE=DURATION:PT6H
X-PUBLISHED-TTL:PT6H    
CALSCALE:GREGORIAN
BEGIN:VEVENT
UID:beroa.no-3167
DTSTAMP:20260421T003804Z
DTSTART:20250601T173000Z
DTEND:20250601T190000Z
URL:https://www.beroa.no/kalender/2025/06/01/mote-tale-av-david-a-sjoen/3167/
CREATED:20250124T190027Z
LAST-MODIFIED:20250525T160832Z
SUMMARY:Møte. Tale av David A Sjøen
DESCRIPTION:\n\nhttps://www.beroa.no/kalender/2025/06/01/mote-tale-av-david-a-sjoen/3167/
END:VEVENT

END:VCALENDAR