BEGIN:VCALENDAR
VERSION:2.0
PRODID:-//mWEB//NONSGML mWEB//NB
URL:https://www.beroa.no/kalender/ics
X-WR-CALNAME:Berøa Langåker
REFRESH-INTERVAL;VALUE=DURATION:PT6H
X-PUBLISHED-TTL:PT6H    
CALSCALE:GREGORIAN
BEGIN:VEVENT
UID:beroa.no-3168
DTSTAMP:20260421T003804Z
DTSTART:20250607T220000Z
DTEND:20250608T215900Z
URL:https://www.beroa.no/kalender/2025/06/08/1-pinsedag-ikke-mote/3168/
CREATED:20250124T190139Z
LAST-MODIFIED:20250124T190222Z
SUMMARY:(1. Pinsedag - ikke møte)
DESCRIPTION:\n\nhttps://www.beroa.no/kalender/2025/06/08/1-pinsedag-ikke-mote/3168/
X-MICROSOFT-CDO-ALLDAYEVENT:TRUE
END:VEVENT

END:VCALENDAR