BEGIN:VCALENDAR
VERSION:2.0
PRODID:-//mWEB//NONSGML mWEB//NB
URL:https://www.beroa.no/kalender/ics
X-WR-CALNAME:Berøa Langåker
REFRESH-INTERVAL;VALUE=DURATION:PT6H
X-PUBLISHED-TTL:PT6H    
CALSCALE:GREGORIAN
BEGIN:VEVENT
UID:beroa.no-3169
DTSTAMP:20260421T004053Z
DTSTART:20250609T173000Z
DTEND:20250609T190000Z
URL:https://www.beroa.no/kalender/2025/06/09/2-pinsedag-mote-tale-av-svein-johnny-langaker/3169/
CREATED:20250124T190254Z
LAST-MODIFIED:20250222T090936Z
SUMMARY:2. Pinsedag - Møte. Tale av Svein Johnny Langåker
DESCRIPTION:\n\nhttps://www.beroa.no/kalender/2025/06/09/2-pinsedag-mote-tale-av-svein-johnny-langaker/3169/
END:VEVENT

END:VCALENDAR