BEGIN:VCALENDAR
VERSION:2.0
PRODID:-//mWEB//NONSGML mWEB//NB
URL:https://www.beroa.no/kalender/ics
X-WR-CALNAME:Berøa Langåker
REFRESH-INTERVAL;VALUE=DURATION:PT6H
X-PUBLISHED-TTL:PT6H    
CALSCALE:GREGORIAN
BEGIN:VEVENT
UID:beroa.no-3148
DTSTAMP:20260421T003550Z
DTSTART:20250613T160000Z
DTEND:20250613T173000Z
URL:https://www.beroa.no/kalender/2025/06/13/10-13-klubben/3148/
CREATED:20250122T194708Z
LAST-MODIFIED:20250122T194708Z
SUMMARY:10-13 klubben
DESCRIPTION:\n\nhttps://www.beroa.no/kalender/2025/06/13/10-13-klubben/3148/
END:VEVENT

END:VCALENDAR