BEGIN:VCALENDAR
VERSION:2.0
PRODID:-//mWEB//NONSGML mWEB//NB
URL:https://www.beroa.no/kalender/ics
X-WR-CALNAME:Berøa Langåker
REFRESH-INTERVAL;VALUE=DURATION:PT6H
X-PUBLISHED-TTL:PT6H    
CALSCALE:GREGORIAN
BEGIN:VEVENT
UID:beroa.no-3170
DTSTAMP:20260421T003204Z
DTSTART:20250615T100000Z
DTEND:20250615T113000Z
URL:https://www.beroa.no/kalender/2025/06/15/brodsbrytelse/3170/
CREATED:20250124T190343Z
LAST-MODIFIED:20250124T190345Z
SUMMARY:Brødsbrytelse
DESCRIPTION:\n\nhttps://www.beroa.no/kalender/2025/06/15/brodsbrytelse/3170/
END:VEVENT

END:VCALENDAR