BEGIN:VCALENDAR
VERSION:2.0
PRODID:-//mWEB//NONSGML mWEB//NB
URL:https://www.beroa.no/kalender/ics
X-WR-CALNAME:Berøa Langåker
REFRESH-INTERVAL;VALUE=DURATION:PT6H
X-PUBLISHED-TTL:PT6H    
CALSCALE:GREGORIAN
BEGIN:VEVENT
UID:beroa.no-3199
DTSTAMP:20260421T003322Z
DTSTART:20250617T173000Z
DTEND:20250617T190000Z
URL:https://www.beroa.no/kalender/2025/06/17/bonnesamling/3199/
CREATED:20250404T153428Z
LAST-MODIFIED:20250404T153430Z
SUMMARY:Bønnesamling
DESCRIPTION:\n\nhttps://www.beroa.no/kalender/2025/06/17/bonnesamling/3199/
END:VEVENT

END:VCALENDAR