BEGIN:VCALENDAR
VERSION:2.0
PRODID:-//mWEB//NONSGML mWEB//NB
URL:https://www.beroa.no/kalender/ics
X-WR-CALNAME:Berøa Langåker
REFRESH-INTERVAL;VALUE=DURATION:PT6H
X-PUBLISHED-TTL:PT6H    
CALSCALE:GREGORIAN
BEGIN:VEVENT
UID:beroa.no-3171
DTSTAMP:20260421T170049Z
DTSTART:20250621T220000Z
DTEND:20250622T215900Z
URL:https://www.beroa.no/kalender/2025/06/22/ikke-mote/3171/
CREATED:20250124T190651Z
LAST-MODIFIED:20250124T190652Z
SUMMARY:(Ikke møte)
DESCRIPTION:\n\nhttps://www.beroa.no/kalender/2025/06/22/ikke-mote/3171/
X-MICROSOFT-CDO-ALLDAYEVENT:TRUE
END:VEVENT

END:VCALENDAR