BEGIN:VCALENDAR
VERSION:2.0
PRODID:-//mWEB//NONSGML mWEB//NB
URL:https://www.beroa.no/kalender/ics
X-WR-CALNAME:Berøa Langåker
REFRESH-INTERVAL;VALUE=DURATION:PT6H
X-PUBLISHED-TTL:PT6H    
CALSCALE:GREGORIAN
BEGIN:VEVENT
UID:beroa.no-3184
DTSTAMP:20260421T003425Z
DTSTART:20250621T220000Z
DTEND:20250622T215900Z
URL:https://www.beroa.no/kalender/2025/06/22/privat-arr/3184/
CREATED:20250317T165204Z
LAST-MODIFIED:20250317T165206Z
SUMMARY:Privat arr
DESCRIPTION:\n\nhttps://www.beroa.no/kalender/2025/06/22/privat-arr/3184/
X-MICROSOFT-CDO-ALLDAYEVENT:TRUE
END:VEVENT

END:VCALENDAR