BEGIN:VCALENDAR
VERSION:2.0
PRODID:-//mWEB//NONSGML mWEB//NB
URL:https://www.beroa.no/kalender/ics
X-WR-CALNAME:Berøa Langåker
REFRESH-INTERVAL;VALUE=DURATION:PT6H
X-PUBLISHED-TTL:PT6H    
CALSCALE:GREGORIAN
BEGIN:VEVENT
UID:beroa.no-3200
DTSTAMP:20260421T003317Z
DTSTART:20250624T173000Z
DTEND:20250624T190000Z
URL:https://www.beroa.no/kalender/2025/06/24/bonnesamling/3200/
CREATED:20250404T153446Z
LAST-MODIFIED:20250404T153448Z
SUMMARY:Bønnesamling
DESCRIPTION:\n\nhttps://www.beroa.no/kalender/2025/06/24/bonnesamling/3200/
END:VEVENT

END:VCALENDAR