BEGIN:VCALENDAR
VERSION:2.0
PRODID:-//mWEB//NONSGML mWEB//NB
URL:https://www.beroa.no/kalender/ics
X-WR-CALNAME:Berøa Langåker
REFRESH-INTERVAL;VALUE=DURATION:PT6H
X-PUBLISHED-TTL:PT6H    
CALSCALE:GREGORIAN
BEGIN:VEVENT
UID:beroa.no-3218
DTSTAMP:20260420T210731Z
DTSTART:20250715T173000Z
DTEND:20250715T190000Z
URL:https://www.beroa.no/kalender/2025/07/15/bonnesamling/3218/
CREATED:20250604T183046Z
LAST-MODIFIED:20250604T183048Z
SUMMARY:Bønnesamling
DESCRIPTION:\n\nhttps://www.beroa.no/kalender/2025/07/15/bonnesamling/3218/
END:VEVENT

END:VCALENDAR