BEGIN:VCALENDAR
VERSION:2.0
PRODID:-//mWEB//NONSGML mWEB//NB
URL:https://www.beroa.no/kalender/ics
X-WR-CALNAME:Berøa Langåker
REFRESH-INTERVAL;VALUE=DURATION:PT6H
X-PUBLISHED-TTL:PT6H    
CALSCALE:GREGORIAN
BEGIN:VEVENT
UID:beroa.no-3219
DTSTAMP:20260420T212152Z
DTSTART:20250722T173000Z
DTEND:20250722T190000Z
URL:https://www.beroa.no/kalender/2025/07/22/bonnesamling/3219/
CREATED:20250604T183106Z
LAST-MODIFIED:20250604T183108Z
SUMMARY:Bønnesamling
DESCRIPTION:\n\nhttps://www.beroa.no/kalender/2025/07/22/bonnesamling/3219/
END:VEVENT

END:VCALENDAR