BEGIN:VCALENDAR
VERSION:2.0
PRODID:-//mWEB//NONSGML mWEB//NB
URL:https://www.beroa.no/kalender/ics
X-WR-CALNAME:Berøa Langåker
REFRESH-INTERVAL;VALUE=DURATION:PT6H
X-PUBLISHED-TTL:PT6H    
CALSCALE:GREGORIAN
BEGIN:VEVENT
UID:beroa.no-3220
DTSTAMP:20260420T211259Z
DTSTART:20250729T173000Z
DTEND:20250729T190000Z
URL:https://www.beroa.no/kalender/2025/07/29/bonnesamling/3220/
CREATED:20250604T183123Z
LAST-MODIFIED:20250604T183124Z
SUMMARY:Bønnesamling
DESCRIPTION:\n\nhttps://www.beroa.no/kalender/2025/07/29/bonnesamling/3220/
END:VEVENT

END:VCALENDAR