BEGIN:VCALENDAR
VERSION:2.0
PRODID:-//mWEB//NONSGML mWEB//NB
URL:https://www.beroa.no/kalender/ics
X-WR-CALNAME:Berøa Langåker
REFRESH-INTERVAL;VALUE=DURATION:PT6H
X-PUBLISHED-TTL:PT6H    
CALSCALE:GREGORIAN
BEGIN:VEVENT
UID:beroa.no-3222
DTSTAMP:20260420T174613Z
DTSTART:20250812T173000Z
DTEND:20250812T190000Z
URL:https://www.beroa.no/kalender/2025/08/12/bonnesamling/3222/
CREATED:20250604T183229Z
LAST-MODIFIED:20250604T183231Z
SUMMARY:Bønnesamling
DESCRIPTION:\n\nhttps://www.beroa.no/kalender/2025/08/12/bonnesamling/3222/
END:VEVENT

END:VCALENDAR