BEGIN:VCALENDAR
VERSION:2.0
PRODID:-//mWEB//NONSGML mWEB//NB
URL:https://www.beroa.no/kalender/ics
X-WR-CALNAME:Berøa Langåker
REFRESH-INTERVAL;VALUE=DURATION:PT6H
X-PUBLISHED-TTL:PT6H    
CALSCALE:GREGORIAN
BEGIN:VEVENT
UID:beroa.no-3271
DTSTAMP:20260420T181821Z
DTSTART:20250817T100000Z
DTEND:20250817T113000Z
URL:https://www.beroa.no/kalender/2025/08/17/mote-tale-av-lars-fladstad-sang-av-anna-nag-brekka-og-rebekka-brekka-lovsangsteamet-blir-med-barnevelsignelse/3271/
CREATED:20250715T134340Z
LAST-MODIFIED:20250715T134341Z
SUMMARY:Møte. Tale av Lars Fladstad. Sang av Anna Nag Brekkå og Rebekka Brekkå. Lovsangsteamet blir med. Barnevelsignelse.
DESCRIPTION:\n\nhttps://www.beroa.no/kalender/2025/08/17/mote-tale-av-lars-fladstad-sang-av-anna-nag-brekka-og-rebekka-brekka-lovsangsteamet-blir-med-barnevelsignelse/3271/
END:VEVENT

END:VCALENDAR