BEGIN:VCALENDAR
VERSION:2.0
PRODID:-//mWEB//NONSGML mWEB//NB
URL:https://www.beroa.no/kalender/ics
X-WR-CALNAME:Berøa Langåker
REFRESH-INTERVAL;VALUE=DURATION:PT6H
X-PUBLISHED-TTL:PT6H    
CALSCALE:GREGORIAN
BEGIN:VEVENT
UID:beroa.no-3223
DTSTAMP:20260420T181705Z
DTSTART:20250819T173000Z
DTEND:20250819T190000Z
URL:https://www.beroa.no/kalender/2025/08/19/bonnesamling/3223/
CREATED:20250604T183248Z
LAST-MODIFIED:20250604T183250Z
SUMMARY:Bønnesamling
DESCRIPTION:\n\nhttps://www.beroa.no/kalender/2025/08/19/bonnesamling/3223/
END:VEVENT

END:VCALENDAR